BEGIN:VCALENDAR
VERSION:2.0
PRODID:-//ArtsLink - ECPv6.15.18//NONSGML v1.0//EN
CALSCALE:GREGORIAN
METHOD:PUBLISH
X-WR-CALNAME:ArtsLink
X-ORIGINAL-URL:https://www.artslinkwv.org
X-WR-CALDESC:Events for ArtsLink
REFRESH-INTERVAL;VALUE=DURATION:PT1H
X-Robots-Tag:noindex
X-PUBLISHED-TTL:PT1H
BEGIN:VTIMEZONE
TZID:America/New_York
BEGIN:DAYLIGHT
TZOFFSETFROM:-0500
TZOFFSETTO:-0400
TZNAME:EDT
DTSTART:20220313T070000
END:DAYLIGHT
BEGIN:STANDARD
TZOFFSETFROM:-0400
TZOFFSETTO:-0500
TZNAME:EST
DTSTART:20221106T060000
END:STANDARD
BEGIN:DAYLIGHT
TZOFFSETFROM:-0500
TZOFFSETTO:-0400
TZNAME:EDT
DTSTART:20230312T070000
END:DAYLIGHT
BEGIN:STANDARD
TZOFFSETFROM:-0400
TZOFFSETTO:-0500
TZNAME:EST
DTSTART:20231105T060000
END:STANDARD
BEGIN:DAYLIGHT
TZOFFSETFROM:-0500
TZOFFSETTO:-0400
TZNAME:EDT
DTSTART:20240310T070000
END:DAYLIGHT
BEGIN:STANDARD
TZOFFSETFROM:-0400
TZOFFSETTO:-0500
TZNAME:EST
DTSTART:20241103T060000
END:STANDARD
END:VTIMEZONE
BEGIN:VEVENT
DTSTART;TZID=America/New_York:20230720T183000
DTEND;TZID=America/New_York:20230720T203000
DTSTAMP:20260421T211630
CREATED:20230715T131807Z
LAST-MODIFIED:20230715T131807Z
UID:231-1689877800-1689885000@www.artslinkwv.org
SUMMARY:Coffeehouse Kicks Off!
DESCRIPTION:ArtsLink’s 2023 Coffeehouse Series will kick off on Thursday\, July 20\, with Rick Tincher\, Jessica Schoonover\, and the Birch River Band. The free 6:30pm concert\, sponsored by First Mutual Bank\, will be held on the performance deck at the Francis Creative Arts Center at the corner of Maple Avenue and Washington Street in downtown New Martinsville.  Jessica has been playing music and singing since she was 4 years old. In addition to singing\, she also plays fiddle\, mandolin\, and guitar. Tincher has won state banjo contests in Ohio\, West Virginia\, and Maryland\, as well as the Mid-Atlantic Banjo Championship. He sings and plays steel guitar\, electric guitar\, and acoustic guitar in the band. Light refreshments will be served and don’t forget a lawn chair. \nArtsLink is committed to providing universal accessibility wherever possible.  Persons with special needs may contact ArtsLink at 304-455-2278 to request assistance. Financial support for ArtsLink activities is provided by The City of New Martinsville Parks & Recreation Commission\, West Virginia Northern Community College\, and W E T Z/ W Y M J Radio.  For more information\, call 304-455-2278.
URL:https://www.artslinkwv.org/event/coffeehouse-kicks-off/
LOCATION:Francis Creative Arts Center\, 202 Maple Ave.\, New Martinsville\, WV\, 26155
ORGANIZER;CN="ArtsLink":MAILTO:artslink@artslinkwv.org
END:VEVENT
BEGIN:VEVENT
DTSTART;TZID=America/New_York:20230713T173000
DTEND;TZID=America/New_York:20230713T193000
DTSTAMP:20260421T211630
CREATED:20230710T143310Z
LAST-MODIFIED:20230710T143310Z
UID:228-1689269400-1689276600@www.artslinkwv.org
SUMMARY:ArtsLink Celebrates!
DESCRIPTION:ArtsLink\, the arts council of Wetzel and Tyler counties\, celebrates its 22nd birthday\, as well as the acquisition of the Francis Creative Arts Center\, on Thursday\, July 13\, at 5:30 pm at the Francis Center. The Center is located at the corner of Maple Avenue and Washington Street in downtown New Martinsville. The public is cordially invited to attend. The Wetzel Tyler Chamber of Commerce will also have a ribbon cutting. \nArtsLink’s annual Concert Series\, art exhibits\, classes\, and other arts activities have delighted audiences annually\, as have children’s theater productions. A production of The Princess and the Pea by the Missoula Children’s Theatre is planned with auditions on July 24 and 2 shows on July 27. A mini-grant program gives financial support to local artists and arts organizations. Much of the success of the organization can be attributed to its nearly 300 members and generous donors\, including EQT Foundation\, Dominion Foundation\, and John J. Mensore\, whose major donation was honored with the naming of the downstairs gallery the “John C. and Catherine Mensore Gallery.” Major partners include West Virginia Northern Community College and the New Martinsville Parks and Recreation Commission. Additional support for ArtsLink’s activities is provided by WETZ & WYMJ Radio\, EQT Foundation\, Hope Gas Foundation\, Walmart Foundation\, the Community Foundation for the Ohio Valley\, the Harry E. & Olive T. Barth Charitable Trust\, and the Stealey Community Fund. \nEvent sponsorships are matched with grants from the West Virginia Division of Arts\, Culture and History and the Mid Atlantic Arts Foundation. Neighborhood Investment Program state tax credits are also available for qualifying donations. \nArtsLink is committed to making the arts accessible to all. Those needing assistance to take advantage of ArtsLink’s activities are invited to call 304-455-2278 for more information.
URL:https://www.artslinkwv.org/event/artslink-celebrates/
LOCATION:Francis Creative Arts Center\, 202 Maple Ave.\, New Martinsville\, WV\, 26155
ORGANIZER;CN="ArtsLink":MAILTO:artslink@artslinkwv.org
END:VEVENT
BEGIN:VEVENT
DTSTART;TZID=America/New_York:20230704T130000
DTEND;TZID=America/New_York:20230704T160000
DTSTAMP:20260421T211630
CREATED:20230628T141119Z
LAST-MODIFIED:20230628T141119Z
UID:218-1688475600-1688486400@www.artslinkwv.org
SUMMARY:Arts in the Park
DESCRIPTION:Once again Carman Harman will act as master of ceremonies for the annual Arts in the Park event slated for Tuesday\, July 4 from 1-4 p.m. at Bruce Park\, sponsored by the New Martinsville Parks and Recreation Commission and ArtsLink. With live music from the 40+ Band\, frozen treats\, kids’ activities\, Sanny’s Bubble Wagon and Stilts\, and Magnolia Band Boosters food available for purchase. Don’t forget your lawn chair! For further information\, please contact the ArtsLink office at 304-455-2-A-R-T.
URL:https://www.artslinkwv.org/event/arts-in-the-park/
LOCATION:Bruce Park\, New Martinsville\, WV\, 26155\, United States
ORGANIZER;CN="ArtsLink":MAILTO:artslink@artslinkwv.org
END:VEVENT
BEGIN:VEVENT
DTSTART;TZID=America/New_York:20230626T173000
DTEND;TZID=America/New_York:20230626T183000
DTSTAMP:20260421T211630
CREATED:20230213T161554Z
LAST-MODIFIED:20230213T162521Z
UID:197-1687800600-1687804200@www.artslinkwv.org
SUMMARY:Board Meeting
DESCRIPTION:
URL:https://www.artslinkwv.org/event/board-meeting-5/
LOCATION:Francis Creative Arts Center\, 202 Maple Ave.\, New Martinsville\, WV\, 26155
END:VEVENT
BEGIN:VEVENT
DTSTART;TZID=America/New_York:20230522T173000
DTEND;TZID=America/New_York:20230522T183000
DTSTAMP:20260421T211630
CREATED:20230213T161510Z
LAST-MODIFIED:20230213T162455Z
UID:195-1684776600-1684780200@www.artslinkwv.org
SUMMARY:Board Meeting
DESCRIPTION:
URL:https://www.artslinkwv.org/event/board-meeting-4/
LOCATION:Francis Creative Arts Center\, 202 Maple Ave.\, New Martinsville\, WV\, 26155
END:VEVENT
BEGIN:VEVENT
DTSTART;TZID=America/New_York:20230518T190000
DTEND;TZID=America/New_York:20230518T210000
DTSTAMP:20260421T211630
CREATED:20230104T120010Z
LAST-MODIFIED:20230212T131124Z
UID:42-1684436400-1684443600@www.artslinkwv.org
SUMMARY:Glenn Miller Orchestra
DESCRIPTION:
URL:https://www.artslinkwv.org/event/glenn-miller-orchestra/
LOCATION:Lincoln Theater\, 242 Main St\, New Martinsville\, WV\, 26155\, United States
CATEGORIES:Performances
END:VEVENT
BEGIN:VEVENT
DTSTART;TZID=America/New_York:20230424T173000
DTEND;TZID=America/New_York:20230424T183000
DTSTAMP:20260421T211630
CREATED:20230213T161432Z
LAST-MODIFIED:20230213T162432Z
UID:193-1682357400-1682361000@www.artslinkwv.org
SUMMARY:Board Meeting
DESCRIPTION:
URL:https://www.artslinkwv.org/event/board-meeting-3/
LOCATION:Francis Creative Arts Center\, 202 Maple Ave.\, New Martinsville\, WV\, 26155
END:VEVENT
BEGIN:VEVENT
DTSTART;TZID=America/New_York:20230327T173000
DTEND;TZID=America/New_York:20230327T183000
DTSTAMP:20260421T211630
CREATED:20230213T161348Z
LAST-MODIFIED:20230213T162405Z
UID:191-1679938200-1679941800@www.artslinkwv.org
SUMMARY:Board Meeting
DESCRIPTION:
URL:https://www.artslinkwv.org/event/board-meeting-2/
LOCATION:Francis Creative Arts Center\, 202 Maple Ave.\, New Martinsville\, WV\, 26155
END:VEVENT
BEGIN:VEVENT
DTSTART;TZID=America/New_York:20230309T190000
DTEND;TZID=America/New_York:20230309T210000
DTSTAMP:20260421T211630
CREATED:20230104T162052Z
LAST-MODIFIED:20230105T154817Z
UID:39-1678388400-1678395600@www.artslinkwv.org
SUMMARY:Trout Fishing in America
DESCRIPTION:
URL:https://www.artslinkwv.org/event/trout-fishing-in-america/
LOCATION:Parlor Theater\, 253 Main Street\, New Martinsville\, WV\, 26155
END:VEVENT
BEGIN:VEVENT
DTSTART;TZID=America/New_York:20230227T173000
DTEND;TZID=America/New_York:20230227T183000
DTSTAMP:20260421T211630
CREATED:20230213T150008Z
LAST-MODIFIED:20230213T150008Z
UID:189-1677519000-1677522600@www.artslinkwv.org
SUMMARY:Board Meeting
DESCRIPTION:
URL:https://www.artslinkwv.org/event/board-meeting/
LOCATION:Francis Creative Arts Center\, 202 Maple Ave.\, New Martinsville\, WV\, 26155
END:VEVENT
BEGIN:VEVENT
DTSTART;TZID=America/New_York:20230223T190000
DTEND;TZID=America/New_York:20230223T210000
DTSTAMP:20260421T211630
CREATED:20230105T155439Z
LAST-MODIFIED:20230105T155439Z
UID:123-1677178800-1677186000@www.artslinkwv.org
SUMMARY:The Foreign Landers
DESCRIPTION:
URL:https://www.artslinkwv.org/event/the-foreign-landers/
LOCATION:Gold Derrick Gallery\, Sistersville\, United States
END:VEVENT
END:VCALENDAR